BEGIN:VCALENDAR
VERSION:2.0
PRODID:-//Plone.org//NONSGML plone.app.event//EN
X-WR-TIMEZONE:America/Sao_Paulo
BEGIN:VEVENT
SUMMARY:02/09 à 23/09/2017 - Estudos Orientados 1ª sessão
DTSTART;TZID=America/Sao_Paulo;VALUE=DATE-TIME:20170902T000000
DTEND;TZID=America/Sao_Paulo;VALUE=DATE-TIME:20170923T235900
DTSTAMP;VALUE=DATE-TIME:20260424T230313Z
UID:0a3383b21b854f358a9561690b3039bd
CREATED;VALUE=DATE-TIME:20170811T200026Z
LAST-MODIFIED;VALUE=DATE-TIME:20170811T200030Z
URL:https://plone.ifmg.edu.br/ceadop3/eventos-1/02-09-a-23-09-2017-estudos
 -orientados-1a-sessao
END:VEVENT
BEGIN:VTIMEZONE
TZID:America/Sao_Paulo
X-LIC-LOCATION:America/Sao_Paulo
BEGIN:STANDARD
DTSTART;VALUE=DATE-TIME:20170218T230000
TZNAME:BRT
TZOFFSETFROM:-0200
TZOFFSETTO:-0300
END:STANDARD
END:VTIMEZONE
END:VCALENDAR
